BEGIN:VCALENDAR
VERSION:2.0
PRODID:-//Literaturner - ECPv6.15.20//NONSGML v1.0//EN
CALSCALE:GREGORIAN
METHOD:PUBLISH
X-WR-CALNAME:Literaturner
X-ORIGINAL-URL:https://literaturner.de
X-WR-CALDESC:Veranstaltungen für Literaturner
REFRESH-INTERVAL;VALUE=DURATION:PT1H
X-Robots-Tag:noindex
X-PUBLISHED-TTL:PT1H
BEGIN:VTIMEZONE
TZID:Europe/Berlin
BEGIN:DAYLIGHT
TZOFFSETFROM:+0100
TZOFFSETTO:+0200
TZNAME:CEST
DTSTART:20240331T010000
END:DAYLIGHT
BEGIN:STANDARD
TZOFFSETFROM:+0200
TZOFFSETTO:+0100
TZNAME:CET
DTSTART:20241027T010000
END:STANDARD
BEGIN:DAYLIGHT
TZOFFSETFROM:+0100
TZOFFSETTO:+0200
TZNAME:CEST
DTSTART:20250330T010000
END:DAYLIGHT
BEGIN:STANDARD
TZOFFSETFROM:+0200
TZOFFSETTO:+0100
TZNAME:CET
DTSTART:20251026T010000
END:STANDARD
BEGIN:DAYLIGHT
TZOFFSETFROM:+0100
TZOFFSETTO:+0200
TZNAME:CEST
DTSTART:20260329T010000
END:DAYLIGHT
BEGIN:STANDARD
TZOFFSETFROM:+0200
TZOFFSETTO:+0100
TZNAME:CET
DTSTART:20261025T010000
END:STANDARD
END:VTIMEZONE
BEGIN:VEVENT
DTSTART;TZID=Europe/Berlin:20250926T183000
DTEND;TZID=Europe/Berlin:20250926T210000
DTSTAMP:20260420T023038
CREATED:20250819T113457Z
LAST-MODIFIED:20250829T074321Z
UID:1368066-1758911400-1758920400@literaturner.de
SUMMARY:Trotz alledem\, lächle!
DESCRIPTION:„Trotz alledem\, lächle!“\n\nDrei Literaturnerinnen lesen am 26.9.2025 um 18:30 Uhr im Erich-Kästner-Haus für Literatur.\n\nAriane Rücker erzählt Neues von Paul und seinen Streichen: Paul köpft die Barbie\, bringt den Kaninchen das Schwimmen bei und macht die Katze betrunken.\n\nSusanne Steinbrecher fragt\, was geschieht\, wenn aus Unglück Glück und aus Ablehnung Freundschaft wird. Sie liest aus ihrem Band „Fluchtpunkte und andere Erzählungen“ die Geschichte „Vier Meter über dem Schneefeld“.\n\nDas Phantom der Oper ist zurück. Claudia Thoss liest aus ihrem Buch „»Die Maske aus schwarzem Samt“. Die Geschichte erzählt von dem jungen Countertenor Christoph Daaé im Paris des Jahres 1881. Spannend wird es\, als er der nächtlichen Einladung eines schwarz maskierten Mannes folgt. Christoph soll für ihn an einem ungewöhnlichen Ort singen: In seinem Versteck unter der Oper.\n\nDer Dresdner Literaturner e.V. ist ein Schriftsteller- und Autorenverein. 2007 fanden die ersten Mitglieder durch das gemeinsame Ziel zusammen\, Gedanken in Worte zu fassen und ihnen lyrische und prosaische Formen zu verleihen. Dazu tauschen sie sich in der Schreibwerkstatt regelmäßig über die neuesten Texte aus.\n(Eintritt frei\, Spende erwünscht)
URL:https://literaturner.de/event/trotz-alledem-laechle/
LOCATION:Erich Kästner Haus für Literatur\, Antonstraße 1\, Dresden\, Sachsen\, 01097\, Germany
CATEGORIES:Lesungen
ATTACH;FMTTYPE=image/png:https://literaturner.de/wp-content/uploads/2025/08/lesung260925kl.png
END:VEVENT
END:VCALENDAR