BEGIN:VCALENDAR
VERSION:2.0
PRODID:-//Literaturner - ECPv6.15.20//NONSGML v1.0//EN
CALSCALE:GREGORIAN
METHOD:PUBLISH
X-ORIGINAL-URL:https://literaturner.de
X-WR-CALDESC:Veranstaltungen für Literaturner
REFRESH-INTERVAL;VALUE=DURATION:PT1H
X-Robots-Tag:noindex
X-PUBLISHED-TTL:PT1H
BEGIN:VTIMEZONE
TZID:Europe/Berlin
BEGIN:DAYLIGHT
TZOFFSETFROM:+0100
TZOFFSETTO:+0200
TZNAME:CEST
DTSTART:20240331T010000
END:DAYLIGHT
BEGIN:STANDARD
TZOFFSETFROM:+0200
TZOFFSETTO:+0100
TZNAME:CET
DTSTART:20241027T010000
END:STANDARD
BEGIN:DAYLIGHT
TZOFFSETFROM:+0100
TZOFFSETTO:+0200
TZNAME:CEST
DTSTART:20250330T010000
END:DAYLIGHT
BEGIN:STANDARD
TZOFFSETFROM:+0200
TZOFFSETTO:+0100
TZNAME:CET
DTSTART:20251026T010000
END:STANDARD
BEGIN:DAYLIGHT
TZOFFSETFROM:+0100
TZOFFSETTO:+0200
TZNAME:CEST
DTSTART:20260329T010000
END:DAYLIGHT
BEGIN:STANDARD
TZOFFSETFROM:+0200
TZOFFSETTO:+0100
TZNAME:CET
DTSTART:20261025T010000
END:STANDARD
END:VTIMEZONE
BEGIN:VEVENT
DTSTART;TZID=Europe/Berlin:20251118T193000
DTEND;TZID=Europe/Berlin:20251118T210000
DTSTAMP:20260419T231251
CREATED:20251031T182825Z
LAST-MODIFIED:20251031T182910Z
UID:1368136-1763494200-1763499600@literaturner.de
SUMMARY:Hundert Jahre. Zwischen Hoffnung und Verhängnis. Ein Architektenleben
DESCRIPTION:Aus ihrem Roman „Hundert Jahre. Zwischen Hoffnung und Verhängnis. Ein Architektenleben“ liest Susanne Steinbrecher am 18.11.2025 um 19:30 Uhr im Gemeindesaal der St. Michaelskirche Dresden Bühlau\, Quohrener Str. 18; 01324 Dresden \nInspiriert von der eigenen Familiengeschichte begibt sich die Autorin auf Spurensuche in das verhängnisvolle\n20. Jahrhundert und die ihm folgenden Jahre des Aufbruchs. Dabei trifft sie auf spannende architektonische Zeugen zwischen Hans Erlwein\, der DDR Moderne und der wiederaufgebauten Dresdner Frauenkirche. Im Mittelpunkt\nallen Geschehens aber steht ein Haus auf dem Weißen Hirsch in Dresden. Herzliche Einladung in den\nPfarrsaal zu diesem besonderen Gemeindeabend im Rahmen der Friedendekade.
URL:https://literaturner.de/event/hundert-jahre-zwischen-hoffnung-und-verhaengnis-ein-architektenleben-4/
LOCATION:Gemeindesaal der St. Michaelskirche Dresden Bühlau\, Quohrener Str. 18\, Dresden\, Sachsen\, 01324\, Germany
CATEGORIES:Lesungen
ATTACH;FMTTYPE=image/jpeg:https://literaturner.de/wp-content/uploads/2025/08/IMG-20250826-WA0001.jpg
END:VEVENT
END:VCALENDAR