BEGIN:VCALENDAR
VERSION:2.0
PRODID:-//Literaturner - ECPv6.15.20//NONSGML v1.0//EN
CALSCALE:GREGORIAN
METHOD:PUBLISH
X-WR-CALNAME:Literaturner
X-ORIGINAL-URL:https://literaturner.de
X-WR-CALDESC:Veranstaltungen für Literaturner
REFRESH-INTERVAL;VALUE=DURATION:PT1H
X-Robots-Tag:noindex
X-PUBLISHED-TTL:PT1H
BEGIN:VTIMEZONE
TZID:Europe/Berlin
BEGIN:DAYLIGHT
TZOFFSETFROM:+0100
TZOFFSETTO:+0200
TZNAME:CEST
DTSTART:20240331T010000
END:DAYLIGHT
BEGIN:STANDARD
TZOFFSETFROM:+0200
TZOFFSETTO:+0100
TZNAME:CET
DTSTART:20241027T010000
END:STANDARD
BEGIN:DAYLIGHT
TZOFFSETFROM:+0100
TZOFFSETTO:+0200
TZNAME:CEST
DTSTART:20250330T010000
END:DAYLIGHT
BEGIN:STANDARD
TZOFFSETFROM:+0200
TZOFFSETTO:+0100
TZNAME:CET
DTSTART:20251026T010000
END:STANDARD
BEGIN:DAYLIGHT
TZOFFSETFROM:+0100
TZOFFSETTO:+0200
TZNAME:CEST
DTSTART:20260329T010000
END:DAYLIGHT
BEGIN:STANDARD
TZOFFSETFROM:+0200
TZOFFSETTO:+0100
TZNAME:CET
DTSTART:20261025T010000
END:STANDARD
END:VTIMEZONE
BEGIN:VEVENT
DTSTART;TZID=Europe/Berlin:20250601T150000
DTEND;TZID=Europe/Berlin:20250601T170000
DTSTAMP:20260424T152706
CREATED:20250514T072905Z
LAST-MODIFIED:20250514T094335Z
UID:1367968-1748790000-1748797200@literaturner.de
SUMMARY:Kindertagslesung im Erich-Kaestner-Museum
DESCRIPTION:Unsere Autorinnen Yvonne Beetz & Ariane Rücker veranstalten am 1. 6. 2025 um 15 Uhr anlässlich des Internationalen Kindertags eine Lesung im Erich Kästner Haus für Literatur für Zuhörer ab 5 Jahren. \nYvonne Beetz liest aus „Mathilda und des Kaisers neue Kleider“ – einer warmherzigen Geschichte über eine Nacktschnecke\, die auf der Suche nach sich selbst ist. Ein Bilderbuch zum Schmunzeln und Nachdenken. \nAriane Rücker erzählt von Paul. Paul ist ein kleiner Junge\, der einer bahnbrechenden Erfindung auf der Spur ist. Leider erhält er dabei keinerlei Unterstützung von seiner Familie\, denn die versteht ihn überhaupt nicht\, sodass er sich um alles selbst kümmern muss. \nIm Anschluss besteht die Möglichkeit\, die Autorinnen im persönlichen Gespräch kennenzulernen und neu erworbene Bücher signieren zu lassen. Die Autorinnen freuen sich auf viele neugierige kleine Zuhörerinnen und Zuhörer und auf einen lebendigen Nachmittag im Sinne Erich Kästners.
URL:https://literaturner.de/event/kindertagslesung-im-erich-kaestner-museum/
LOCATION:Erich Kästner Haus für Literatur\, Antonstraße 1\, Dresden\, Sachsen\, 01097\, Germany
CATEGORIES:Lesungen
ATTACH;FMTTYPE=image/jpeg:https://literaturner.de/wp-content/uploads/2013/09/Geschichte-Dresdner-Literaturner-Dresden-Autoren-Schriftsteller-Verein-Kultur.jpg
END:VEVENT
BEGIN:VEVENT
DTSTART;TZID=Europe/Berlin:20250605T190000
DTEND;TZID=Europe/Berlin:20250605T203000
DTSTAMP:20260424T152706
CREATED:20250424T144607Z
LAST-MODIFIED:20250424T144607Z
UID:1367958-1749150000-1749155400@literaturner.de
SUMMARY:Kultur und Wissenschaft mit Panoramablick
DESCRIPTION:„Hundert Jahre. Zwischen Hoffnung und Verhängnis. Ein Architektenleben“.\nIm Rahmen der Donnerstagsreihe auf dem Lingnerschloss liest unsere Autorin Susanne Steinbrecher am 5.6. aus ihrem neuesten Roman vor. Beginn ist 19 Uhr. Der Eintritt beträgt 15/10 € (Benefizveranstaltung zur weiteren Sanierung des Schlosses).
URL:https://literaturner.de/event/kultur-und-wissenschaft-mit-panoramablick/
LOCATION:Lignerschloss\, Bautzner Straße 132\, Dresden\, 01099\, Germany
CATEGORIES:Lesungen
ATTACH;FMTTYPE=image/jpeg:https://literaturner.de/wp-content/uploads/2022/09/Dresdenerlesen_2022_1klquer.jpeg
END:VEVENT
BEGIN:VEVENT
DTSTART;TZID=Europe/Berlin:20250606T140000
DTEND;TZID=Europe/Berlin:20250606T153000
DTSTAMP:20260424T152706
CREATED:20250423T083226Z
LAST-MODIFIED:20250423T083530Z
UID:1367953-1749218400-1749223800@literaturner.de
SUMMARY:Lesung: "Nachgeborene"
DESCRIPTION:Die Dresdner Literaturner lesen bei den Naturfreunden Dresden. Am 6. Juni 2025 ab 14:Uhr sind alle herzlich eingeladen\, den „Nachgeborenen“ zuzuhören.
URL:https://literaturner.de/event/lesung-nachgeborene/
LOCATION:Skipper Café Dresden\, Pirnaer Landstr. 235\, Dresden\, 01259\, Germany
CATEGORIES:Lesungen
ATTACH;FMTTYPE=image/jpeg:https://literaturner.de/wp-content/uploads/2024/09/Putjatin9_2024.jpg
END:VEVENT
BEGIN:VEVENT
DTSTART;TZID=Europe/Berlin:20250606T183000
DTEND;TZID=Europe/Berlin:20250606T210000
DTSTAMP:20260424T152706
CREATED:20250219T151345Z
LAST-MODIFIED:20250409T143143Z
UID:1367884-1749234600-1749243600@literaturner.de
SUMMARY:Mitgliederversammlung
DESCRIPTION:Am 6. Juni 2025 findet KEINE Schreibwerkstatt statt. Wir treffen uns zur Mitgliederversammlung. ACHTUNG: Diese Veranstaltung ist intern. Nur MITGLIEDER dürfen daran teilnehmen.
URL:https://literaturner.de/event/mitgliederversammlung/
LOCATION:Erich Kästner Haus für Literatur\, Antonstraße 1\, Dresden\, Sachsen\, 01097\, Germany
CATEGORIES:Mitgliederversammlung
ATTACH;FMTTYPE=image/jpeg:https://literaturner.de/wp-content/uploads/2013/09/Geschichte-Dresdner-Literaturner-Dresden-Autoren-Schriftsteller-Verein-Kultur.jpg
END:VEVENT
BEGIN:VEVENT
DTSTART;TZID=Europe/Berlin:20250621T170000
DTEND;TZID=Europe/Berlin:20250621T200000
DTSTAMP:20260424T152706
CREATED:20250602T125840Z
LAST-MODIFIED:20250602T125840Z
UID:1367991-1750525200-1750536000@literaturner.de
SUMMARY:Texte für den Sommer
DESCRIPTION:Unter dem Motto: „Texte für den Sommer“\, lädt der Dresdner Literaturner e.V. zu seiner Sommerlesung 2025 ins Erich Kästner Haus für Literatur ein. Auf der Bühne stellen Mitglieder und Gäste sommerlich leichte\, literarische Häppchen vor. \nWir beginnen um 17:00 Uhr. Eintritt ist frei. Der Verein würde sich über eine Spende freuen. \n  \n  \n 
URL:https://literaturner.de/event/texte-fuer-den-sommer/
LOCATION:Erich Kästner Haus für Literatur\, Antonstraße 1\, Dresden\, Sachsen\, 01097\, Germany
CATEGORIES:Lesungen
ATTACH;FMTTYPE=image/jpeg:https://literaturner.de/wp-content/uploads/2025/06/sommerlesung25a.jpg
END:VEVENT
BEGIN:VEVENT
DTSTART;TZID=Europe/Berlin:20250627T180000
DTEND;TZID=Europe/Berlin:20250627T200000
DTSTAMP:20260424T152706
CREATED:20250410T195618Z
LAST-MODIFIED:20250410T195751Z
UID:1367945-1751047200-1751054400@literaturner.de
SUMMARY:Die Literaturner lesen in der BüloWH
DESCRIPTION:Die Literaturner lesen am 27. 6. 2025 18 Uhr im Seniorenbegegnungszentrum BÜLOWH.
URL:https://literaturner.de/event/die-literaturner-lesen-in-der-buelowh-2/
LOCATION:Seniorenbegnungsstätte BüloWH\, Pillnitzer Landstraße 12\, Dresden\, Deutschland
CATEGORIES:Lesungen
ATTACH;FMTTYPE=image/jpeg:https://literaturner.de/wp-content/uploads/2022/12/csm_buelowh-6_ea8c13530b.jpg
END:VEVENT
END:VCALENDAR