BEGIN:VCALENDAR
VERSION:2.0
PRODID:-//Literaturner - ECPv6.15.20//NONSGML v1.0//EN
CALSCALE:GREGORIAN
METHOD:PUBLISH
X-WR-CALNAME:Literaturner
X-ORIGINAL-URL:https://literaturner.de
X-WR-CALDESC:Veranstaltungen für Literaturner
REFRESH-INTERVAL;VALUE=DURATION:PT1H
X-Robots-Tag:noindex
X-PUBLISHED-TTL:PT1H
BEGIN:VTIMEZONE
TZID:Europe/Berlin
BEGIN:DAYLIGHT
TZOFFSETFROM:+0100
TZOFFSETTO:+0200
TZNAME:CEST
DTSTART:20240331T010000
END:DAYLIGHT
BEGIN:STANDARD
TZOFFSETFROM:+0200
TZOFFSETTO:+0100
TZNAME:CET
DTSTART:20241027T010000
END:STANDARD
BEGIN:DAYLIGHT
TZOFFSETFROM:+0100
TZOFFSETTO:+0200
TZNAME:CEST
DTSTART:20250330T010000
END:DAYLIGHT
BEGIN:STANDARD
TZOFFSETFROM:+0200
TZOFFSETTO:+0100
TZNAME:CET
DTSTART:20251026T010000
END:STANDARD
BEGIN:DAYLIGHT
TZOFFSETFROM:+0100
TZOFFSETTO:+0200
TZNAME:CEST
DTSTART:20260329T010000
END:DAYLIGHT
BEGIN:STANDARD
TZOFFSETFROM:+0200
TZOFFSETTO:+0100
TZNAME:CET
DTSTART:20261025T010000
END:STANDARD
END:VTIMEZONE
BEGIN:VEVENT
DTSTART;TZID=Europe/Berlin:20250801T183000
DTEND;TZID=Europe/Berlin:20250801T210000
DTSTAMP:20260420T023028
CREATED:20250629T140309Z
LAST-MODIFIED:20250629T141721Z
UID:1368024-1754073000-1754082000@literaturner.de
SUMMARY:Schreibwerkstatt 08/25
DESCRIPTION:Alle Mitglieder und vorab angemeldete Schnuppergäste (info(at)literaturner(dot)de) sind herzlich eingeladen. Wir treffen uns wie gewohnt um 18:30 am bekannten Ort. Bitte beantwortet zuvor die folgende Frage: \n\n\nKommst du zur Schreibwerkstatt?\n	\n		\n	\n		 Ja\, und ich bringe einen langen Text mit.\n	\n\n	\n		 Ja\, aber ich bringe keinen Text mit.\n	\n\n	\n		 Ja\, und ich bringe einen kurzen Text mit.\n	\n\n	\n	Ergebnisse\nPoll Options are limited because JavaScript is disabled in your browser.
URL:https://literaturner.de/event/schreibwerkstatt-08-25/
LOCATION:Erich Kästner Haus für Literatur\, Antonstraße 1\, Dresden\, Sachsen\, 01097\, Germany
CATEGORIES:Schreibwerkstatt
ATTACH;FMTTYPE=image/jpeg:https://literaturner.de/wp-content/uploads/2013/09/Geschichte-Dresdner-Literaturner-Dresden-Autoren-Schriftsteller-Verein-Kultur.jpg
END:VEVENT
BEGIN:VEVENT
DTSTART;TZID=Europe/Berlin:20250829T180000
DTEND;TZID=Europe/Berlin:20250829T193000
DTSTAMP:20260420T023028
CREATED:20250810T084526Z
LAST-MODIFIED:20250811T171649Z
UID:1368052-1756490400-1756495800@literaturner.de
SUMMARY:Die Literaturner lesen in der BÜLOWH
DESCRIPTION:Die Literaturner lesen am 29. 8. 2025 um 18 Uhr im Seniorenbegegnungszentrum BÜLOWH. Als besonderes Highlight gibt es Auszüge aus einem spannenden historischen Roman über einen Helden\, der ursprünglich zum Krieger erzogen worden ist. Doch seine Seele lehnt sich auf. Mit der Fahnenflucht beginnt sein eigentlicher Kampf. \nLassen Sie sich von Roberto Lorenz\, unserem Autor\, in die Zeit des alten Roms entführen. Der noch nicht vollendete Roman trägt den Titel: „Der Stumme von Pompeji.“ Aus Kapazitätsgründen bitten wir um eine Voranmeldung unter 0351/2688988. Der Eintritt ist frei. \n 
URL:https://literaturner.de/event/die-literaturner-lesen-in-der-buelwh/
LOCATION:Seniorenbegnungsstätte BüloWH\, Pillnitzer Landstraße 12\, Dresden\, Deutschland
CATEGORIES:Lesungen
ATTACH;FMTTYPE=image/jpeg:https://literaturner.de/wp-content/uploads/2022/12/csm_buelowh-6_ea8c13530b.jpg
END:VEVENT
END:VCALENDAR