BEGIN:VCALENDAR
VERSION:2.0
PRODID:-//Literaturner - ECPv6.15.20//NONSGML v1.0//EN
CALSCALE:GREGORIAN
METHOD:PUBLISH
X-ORIGINAL-URL:https://literaturner.de
X-WR-CALDESC:Veranstaltungen für Literaturner
REFRESH-INTERVAL;VALUE=DURATION:PT1H
X-Robots-Tag:noindex
X-PUBLISHED-TTL:PT1H
BEGIN:VTIMEZONE
TZID:Europe/Berlin
BEGIN:DAYLIGHT
TZOFFSETFROM:+0100
TZOFFSETTO:+0200
TZNAME:CEST
DTSTART:20240331T010000
END:DAYLIGHT
BEGIN:STANDARD
TZOFFSETFROM:+0200
TZOFFSETTO:+0100
TZNAME:CET
DTSTART:20241027T010000
END:STANDARD
BEGIN:DAYLIGHT
TZOFFSETFROM:+0100
TZOFFSETTO:+0200
TZNAME:CEST
DTSTART:20250330T010000
END:DAYLIGHT
BEGIN:STANDARD
TZOFFSETFROM:+0200
TZOFFSETTO:+0100
TZNAME:CET
DTSTART:20251026T010000
END:STANDARD
BEGIN:DAYLIGHT
TZOFFSETFROM:+0100
TZOFFSETTO:+0200
TZNAME:CEST
DTSTART:20260329T010000
END:DAYLIGHT
BEGIN:STANDARD
TZOFFSETFROM:+0200
TZOFFSETTO:+0100
TZNAME:CET
DTSTART:20261025T010000
END:STANDARD
END:VTIMEZONE
BEGIN:VEVENT
DTSTART;TZID=Europe/Berlin:20251001T170000
DTEND;TZID=Europe/Berlin:20251001T190000
DTSTAMP:20260419T231415
CREATED:20250910T173958Z
LAST-MODIFIED:20250910T174616Z
UID:1368097-1759338000-1759345200@literaturner.de
SUMMARY:"Die Wachenden" - Lea liest in Leipzig
DESCRIPTION:Unter dem Motto „Autorinnen aus unserer Region“ liest unsere Literaturnerin Lea Giegerich am 01. Oktober 2025 ab 17:00 Uhr aus ihrem Werk „Die Wachenden“ im Thalia Leipzig – Allee-Center. Das Buch öffnet die Tür zu einer Traumwelt\, die von einem rätselhaften Virus bedroht wird. \nLea liest zusammen mit Luga Faunus („Sonnenseide“). \nAlle Infos gibts hier: https://www.thalia.de/veranstaltung/detail/43118
URL:https://literaturner.de/event/die-wachenden-lea-liest-in-leipzig/
LOCATION:Thalia Leipzig – Allee-Center\, Ludwigsburger Str. 9\, Leipzig\, Sachsen\, 04209\, Germany
CATEGORIES:Lesungen
ATTACH;FMTTYPE=image/jpeg:https://literaturner.de/wp-content/uploads/2025/09/lea-Image.jpg
END:VEVENT
BEGIN:VEVENT
DTSTART;TZID=Europe/Berlin:20251010T183000
DTEND;TZID=Europe/Berlin:20251010T210000
DTSTAMP:20260419T231415
CREATED:20250629T140630Z
LAST-MODIFIED:20250629T141903Z
UID:1368028-1760121000-1760130000@literaturner.de
SUMMARY:Schreibwerkstatt 10/25
DESCRIPTION:Alle Mitglieder und vorab angemeldete Schnuppergäste ( info(at)literaturner(dot)de ) sind herzlich eingeladen. Wir treffen uns wie gewohnt um 18:30 am bekannten Ort. Bitte beantwortet zuvor die folgende Frage: \n\n\nKommst du zur Schreibwerkstatt?\n	\n		\n	\n		 Ja\, aber ich bringe keinen Text mit.\n	\n\n	\n		 Ja\, und ich bringe einen langen Text mit.\n	\n\n	\n		 Ja\, und ich bringe einen kurzen Text mit.\n	\n\n	\n	Ergebnisse\nPoll Options are limited because JavaScript is disabled in your browser.
URL:https://literaturner.de/event/schreibwerkstatt-10-25/
LOCATION:Erich Kästner Haus für Literatur\, Antonstraße 1\, Dresden\, Sachsen\, 01097\, Germany
CATEGORIES:Schreibwerkstatt
ATTACH;FMTTYPE=image/jpeg:https://literaturner.de/wp-content/uploads/2013/09/Geschichte-Dresdner-Literaturner-Dresden-Autoren-Schriftsteller-Verein-Kultur.jpg
END:VEVENT
BEGIN:VEVENT
DTSTART;TZID=Europe/Berlin:20251017T180000
DTEND;TZID=Europe/Berlin:20251017T200000
DTSTAMP:20260419T231415
CREATED:20251001T095553Z
LAST-MODIFIED:20251001T104145Z
UID:1368115-1760724000-1760731200@literaturner.de
SUMMARY:Dystopie und Zombies im Read The Room
DESCRIPTION:Unser Vereinsmitglied Justin K. Opitz lädt ein zur Buchparty. Es geht los am Freitag\, 17.10. 2025\, im Read The Room auf der Dresdner Hauptstraße. Freuen Sie sich auf Zombies und tapfere Verteidiger der Menschheit im düsteren\, postapokalyptischen Dresden. Voranmeldung nicht nötig. Kommen Sie einfach vorbei.
URL:https://literaturner.de/event/dystopie-und-zombies-im-read-the-room/
LOCATION:Read The Room\, Hauptstraße 42\, Dresden\, Sachsen\, 01097\, Germany
CATEGORIES:Buchvorstellung
ATTACH;FMTTYPE=image/jpeg:https://literaturner.de/wp-content/uploads/2025/10/IMG-20251001-WA0000.jpg
END:VEVENT
BEGIN:VEVENT
DTSTART;TZID=Europe/Berlin:20251018T120000
DTEND;TZID=Europe/Berlin:20251018T125500
DTSTAMP:20260419T231415
CREATED:20251010T075425Z
LAST-MODIFIED:20251010T080043Z
UID:1368123-1760788800-1760792100@literaturner.de
SUMMARY:Virtuelle Welten in den Science-Fiction-Romanen "Nano: Porto" und "Mörder in der Mumienfarm"
DESCRIPTION:Parallel zur Frankfurter Buchmesse findet die BuCon in Dreieich statt. Oliver Borchers und Literaturner K. Theo Frank lesen und diskutieren von 12:00 – 12:55 Uhr im Raum der Wünsche über virtuelle Welten. Gerade beim Gaming nicht mehr wegzudenken erobern sie auch andere Bereiche des Lebens. Und natürlich findet man sie auch in der Literatur. Die Virtuelle Welt im Cyberpunk-Roman „Nano: Porto“ von Oliver Borchers und die im Science-Fiction-Krimi „Mörder in der Mumienfarm“ von K. Theo Frank sollen als Beispiel und Anregung dienen. Die Zuhörer sind eingeladen\, zu mit den Autoren zu diskutieren  kurzen Auszügen aus den beiden Sci-Fi-Romanen zu lauschen. Signierte Exemplare sind am Shadodex-Stand zu haben. Danke auch an die Organisatoren der BuCon und den Bürgerverein Buchschlag e.V.
URL:https://literaturner.de/event/virtuelle-welten-in-den-science-fiction-romanen-nano-porto-und-moerder-in-der-mumienfarm/
LOCATION:Bürgerhaus Sprendlingen\, Fichtestraße 50\, Dreieich\, Hessen\, 63303\, Germany
CATEGORIES:Lesungen
ATTACH;FMTTYPE=image/jpeg:https://literaturner.de/wp-content/uploads/2025/10/bhs2.jpg
END:VEVENT
BEGIN:VEVENT
DTSTART;TZID=Europe/Berlin:20251020T180000
DTEND;TZID=Europe/Berlin:20251020T193000
DTSTAMP:20260419T231415
CREATED:20250829T070411Z
LAST-MODIFIED:20250829T070845Z
UID:1368083-1760983200-1760988600@literaturner.de
SUMMARY:Hundert Jahre. Zwischen Hoffnung und Verhängnis. Ein Architektenleben
DESCRIPTION:Aus ihrem Roman „Hundert Jahre. Zwischen Hoffnung und Verhängnis. Ein Architektenleben“ liest Susanne Steinbrecher am 20.10.2025 um 18 Uhr in der vhs Dresden „Literarischer Salon“\, Volkshochschule Dresden\, Annenstr.10; 01067 Dresden.
URL:https://literaturner.de/event/hundert-jahre-zwischen-hoffnung-und-verhaengnis-ein-architektenleben/
LOCATION:VHS Annenstraße\, Annenstraße 10\, 01067 Dresden\, Deutschland
CATEGORIES:Lesungen
ATTACH;FMTTYPE=image/jpeg:https://literaturner.de/wp-content/uploads/2025/08/IMG-20250826-WA0001.jpg
END:VEVENT
END:VCALENDAR