BEGIN:VCALENDAR
VERSION:2.0
PRODID:-//Literaturner - ECPv6.15.20//NONSGML v1.0//EN
CALSCALE:GREGORIAN
METHOD:PUBLISH
X-WR-CALNAME:Literaturner
X-ORIGINAL-URL:https://literaturner.de
X-WR-CALDESC:Veranstaltungen für Literaturner
REFRESH-INTERVAL;VALUE=DURATION:PT1H
X-Robots-Tag:noindex
X-PUBLISHED-TTL:PT1H
BEGIN:VTIMEZONE
TZID:Europe/Berlin
BEGIN:DAYLIGHT
TZOFFSETFROM:+0100
TZOFFSETTO:+0200
TZNAME:CEST
DTSTART:20250330T010000
END:DAYLIGHT
BEGIN:STANDARD
TZOFFSETFROM:+0200
TZOFFSETTO:+0100
TZNAME:CET
DTSTART:20251026T010000
END:STANDARD
BEGIN:DAYLIGHT
TZOFFSETFROM:+0100
TZOFFSETTO:+0200
TZNAME:CEST
DTSTART:20260329T010000
END:DAYLIGHT
BEGIN:STANDARD
TZOFFSETFROM:+0200
TZOFFSETTO:+0100
TZNAME:CET
DTSTART:20261025T010000
END:STANDARD
BEGIN:DAYLIGHT
TZOFFSETFROM:+0100
TZOFFSETTO:+0200
TZNAME:CEST
DTSTART:20270328T010000
END:DAYLIGHT
BEGIN:STANDARD
TZOFFSETFROM:+0200
TZOFFSETTO:+0100
TZNAME:CET
DTSTART:20271031T010000
END:STANDARD
END:VTIMEZONE
BEGIN:VEVENT
DTSTART;TZID=Europe/Berlin:20260109T180000
DTEND;TZID=Europe/Berlin:20260109T200000
DTSTAMP:20260419T180608
CREATED:20251127T113914Z
LAST-MODIFIED:20251127T114023Z
UID:1368156-1767981600-1767988800@literaturner.de
SUMMARY:Hundert Jahre. Zwischen Hoffnung und Verhängnis. Ein Architektenleben
DESCRIPTION:Aus ihrem Roman „Hundert Jahre. Zwischen Hoffnung und Verhängnis. Ein Architektenleben“ liest Susanne Steinbrecher am 9.1.2026 um 18 Uhr im Antiquariat „Schmökerei“ Pirna\, Schössergasse 9b\, 01796 Pirna.
URL:https://literaturner.de/event/hundert-jahre-zwischen-hoffnung-und-verhaengnis-ein-architektenleben-5/
LOCATION:Antiquariat Schmökerei Pirna\, Schössergasse 9b\, Pirna\, Sachsen\, 01796\, Germany
CATEGORIES:Lesungen
ATTACH;FMTTYPE=image/jpeg:https://literaturner.de/wp-content/uploads/2025/08/IMG-20250826-WA0001.jpg
END:VEVENT
BEGIN:VEVENT
DTSTART;TZID=Europe/Berlin:20260109T183000
DTEND;TZID=Europe/Berlin:20260109T210000
DTSTAMP:20260419T180608
CREATED:20251118T162616Z
LAST-MODIFIED:20251118T162616Z
UID:1368152-1767983400-1767992400@literaturner.de
SUMMARY:Schreibwerkstatt 01/26
DESCRIPTION:Alle Mitglieder und vorab angemeldete Schnuppergäste ( info(at)literaturner(dot)de ) sind herzlich eingeladen. Wir treffen uns wie gewohnt um 18:30 am bekannten Ort. Bitte beantwortet zuvor die folgende Frage: \n\n\nKommst du zur Schreibwerkstatt?\n	\n		\n	\n		 Ja\, aber ich bringe keinen Text mit.\n	\n\n	\n		 Ja\, und ich bringe einen langen Text mit.\n	\n\n	\n		 Ja\, und ich bringe einen kurzen Text mit.\n	\n\n	\n	Ergebnisse\nPoll Options are limited because JavaScript is disabled in your browser.
URL:https://literaturner.de/event/schreibwerkstatt-01-26/
LOCATION:Erich Kästner Haus für Literatur\, Antonstraße 1\, Dresden\, Sachsen\, 01097\, Germany
CATEGORIES:Schreibwerkstatt
ATTACH;FMTTYPE=image/jpeg:https://literaturner.de/wp-content/uploads/2013/09/Geschichte-Dresdner-Literaturner-Dresden-Autoren-Schriftsteller-Verein-Kultur.jpg
END:VEVENT
END:VCALENDAR